BEGIN:VCALENDAR
VERSION:2.0
PRODID:-//National Camera Exchange - ECPv4.6.11.1//NONSGML v1.0//EN
CALSCALE:GREGORIAN
METHOD:PUBLISH
X-WR-CALNAME:National Camera Exchange
X-ORIGINAL-URL:https://www.natcam.com
X-WR-CALDESC:Events for National Camera Exchange
BEGIN:VEVENT
DTSTART;TZID=America/Chicago:20220805T140000
DTEND;TZID=America/Chicago:20220805T153000
DTSTAMP:20260422T200405
CREATED:20220720T201027Z
LAST-MODIFIED:20220805T123054Z
UID:369403-1659708000-1659713400@www.natcam.com
SUMMARY:From Tabletop to Product Photography with Tamron // Live Workshop
DESCRIPTION:From Tabletop to Product Photography with Tamron\nLive Workshop // August 5\, 2022\n  \nJoin local photographer and National Tamron Tech Rep Jillian Bell to take a look at still life and product photography. From flat-lay\, light tents\, and natural\, environmental scenes; she’ll walk you through common set ups you can use at home. This brief instruction period will lead into an opportunity to try out these techniques during the hands-on portion of the workshop. Bring your camera to take what you’ve learned and put it into practice. Tamron will have lenses on hand for you to try out and use in a variety of ways. \n  \nRegistration for this workshop is limited to 15 participants\, so be sure to reserve your spot early!  \n  \n• • • • • • • • • • • • • • • • •\n  \n2022 Education Celebration Week\nThis in-person presentation is part of our Education Celebration Week\, featuring a variety of learning opportunities that will help you polish your photo skills throughout the week of August 1st–8th. Join us virtually for webinars with the experts during the first part of the week\, and stop by our Golden Valley location over the weekend for fun educational experiences including in-person classes\, vendor demos\, giveaways\, and savings on select products. The Raptor Center will help us wrap up the celebration on Monday\, August 8th\, with an exclusive raptor photography workshop! \n  \nAll class attendees will receive a special in-store savings voucher for attending the in-person classes and workshops! Check out our full calendar here \n* We will have a covered tent designated for our outdoor classroom\, which will be located behind the building \n  \n  \n  \n
URL:https://www.natcam.com/event/tabletop-product-photography-tamron-live-workshop/
LOCATION:9300 Olson Memorial Highway\, Golden Valley\, MN\, 55427\, United States
GEO:44.9842769;-93.3982752
X-APPLE-STRUCTURED-LOCATION;VALUE=URI;X-ADDRESS=9300 Olson Memorial Highway Golden Valley MN 55427 United States;X-APPLE-RADIUS=500;X-TITLE=9300 Olson Memorial Highway:geo:-93.3982752,44.9842769
CATEGORIES:Special Events,Specialty Classes
ATTACH;FMTTYPE=image/jpeg:https://www.natcam.com/wp-content/uploads/2022/07/tamron-tabletop-product-01.jpg
END:VEVENT
END:VCALENDAR