BEGIN:VCALENDAR
VERSION:2.0
PRODID:-//National Camera Exchange - ECPv4.6.11.1//NONSGML v1.0//EN
CALSCALE:GREGORIAN
METHOD:PUBLISH
X-WR-CALNAME:National Camera Exchange
X-ORIGINAL-URL:https://www.natcam.com
X-WR-CALDESC:Events for National Camera Exchange
BEGIN:VEVENT
DTSTART;TZID=America/Chicago:20170707T153000
DTEND;TZID=America/Chicago:20170707T163000
DTSTAMP:20260419T212647
CREATED:20170701T020518Z
LAST-MODIFIED:20170701T161427Z
UID:78237-1499441400-1499445000@www.natcam.com
SUMMARY:Tamron: Introduction to Macro Photography @ Roseville
DESCRIPTION:
URL:https://www.natcam.com/event/tamron-introduction-macro-photography-roseville/
LOCATION:2401 Fairview Avenue N #10\, Roseville\, MN\, 55113\, United States
GEO:45.0136491;-93.1791898
X-APPLE-STRUCTURED-LOCATION;VALUE=URI;X-ADDRESS=2401 Fairview Avenue N #10 Roseville MN 55113 United States;X-APPLE-RADIUS=500;X-TITLE=2401 Fairview Avenue N #10:geo:-93.1791898,45.0136491
CATEGORIES:Special Events,Specialty Classes
END:VEVENT
END:VCALENDAR