BEGIN:VCALENDAR
VERSION:2.0
PRODID:-//National Camera Exchange - ECPv4.6.11.1//NONSGML v1.0//EN
CALSCALE:GREGORIAN
METHOD:PUBLISH
X-WR-CALNAME:National Camera Exchange
X-ORIGINAL-URL:https://www.natcam.com
X-WR-CALDESC:Events for National Camera Exchange
BEGIN:VEVENT
DTSTART;TZID=America/Chicago:20241108T100000
DTEND;TZID=America/Chicago:20241108T160000
DTSTAMP:20260421T012459
CREATED:20241011T164930Z
LAST-MODIFIED:20241029T161637Z
UID:521854-1731060000-1731081600@www.natcam.com
SUMMARY:Tamron // Product Demo • Friday\, November 8th
DESCRIPTION:Tamron Product Demo\nFriday\, November 8th\n  \n  \nTAMRON PRODUCT DEMO\nJoin Tamron Tech Rep Janet Vuong for an in-person demo on Friday\, November 8th from 10am-4pm. See the newest Tamron lenses on display\, including the new 90mm F2.8 Macro lens for Sony E and Nikon Z mirrorless cameras! Bring your questions\, along with your camera bodies if you want to try out any new lenses. \n• • • • •  \nTAMRON VIDEO MASTERCLASS // TWO-DAY WORKSHOP\nJoin us for an immersive two-day video production experience on Friday and Saturday\, November 8th & 9th. Led by Director/Cinematographer and Tamron Image Master Charley Voorhis\, you’ll team up with fellow creatives to plan\, shoot\, and edit a promotional video for The Bond Between\, a local animal shelter devoted to connecting people and animals. Participants will have the opportunity to use Tamron lenses\, bringing the story to life through high-quality visuals while learning key techniques in video production. \nSee full event details and register here! > https://www.natcam.com/event/tamron-video-masterclass \n• • • • • \nVIDEO WORKSHOP SCHEDULE\nFriday\, November 8th  \n4:30-6pm // Creative Planning Session at National Camera \nSaturday\,November 9th  \n9:00am-12:00pm // On-site Filming at The Bond Betweem \n12:15-1:00pm // Lunch Provided at National Camera \n1:00-3:30pm // Video Editing Session at National Camera \n• • • • • \nIf you have any questions about this or any other event\, please email us at classes@natcam.com. We will do our best to get back to you within 1-2 business days. \n
URL:https://www.natcam.com/event/tamron-product-demo-%e2%80%a2-friday-november-8th/
CATEGORIES:Special Events
ATTACH;FMTTYPE=image/jpeg:https://www.natcam.com/wp-content/uploads/2024/10/tamron-demo-11-08_event-banner.jpg
END:VEVENT
END:VCALENDAR