BEGIN:VCALENDAR
VERSION:2.0
PRODID:-//National Camera Exchange - ECPv4.6.11.1//NONSGML v1.0//EN
CALSCALE:GREGORIAN
METHOD:PUBLISH
X-WR-CALNAME:National Camera Exchange
X-ORIGINAL-URL:https://www.natcam.com
X-WR-CALDESC:Events for National Camera Exchange
BEGIN:VEVENT
DTSTART;TZID=America/Chicago:20231202T100000
DTEND;TZID=America/Chicago:20231202T160000
DTSTAMP:20260421T203003
CREATED:20231110T144613Z
LAST-MODIFIED:20231127T050902Z
UID:458479-1701511200-1701532800@www.natcam.com
SUMMARY:Tamron // In-Store Demo • December 2\, 2023
DESCRIPTION:TAMRON\nIn-Store Demo • December 2nd\n  \nDiscover the latest Tamron lenses and take your photography skills to the next level with a two day in-store demo on Friday\, December 1st and Saturday\, December 2nd from 10am-4pm. Join Mike Pazandak with Tamron as he showcases the features and benefits of Tamron lenses; from wide-angle to telephoto\, discover the perfect lens for your needs and learn tips and tricks to capture stunning images.  Don’t miss out on this exciting opportunity to meet with the experts in person\, try out some new lenses\, and get your questions answered in person. We look forward to seeing you here! \n•••••••••••••••••••••• \nLooking to upgrade your gear? Bring in your cameras\, lenses and sports optics to get a quote from our knowledgeable sales staff on the value of trading it in towards a new purchase. \nIf you have any questions about this or any other event\, please email us at classes@natcam.com. We will do our best to get back to you within 1-2 business days. \n
URL:https://www.natcam.com/event/tamron-store-demo-%e2%80%a2-december-2-2023/
LOCATION:9300 Olson Memorial Highway\, Golden Valley\, MN\, 55427\, United States
GEO:44.9842769;-93.3982752
X-APPLE-STRUCTURED-LOCATION;VALUE=URI;X-ADDRESS=9300 Olson Memorial Highway Golden Valley MN 55427 United States;X-APPLE-RADIUS=500;X-TITLE=9300 Olson Memorial Highway:geo:-93.3982752,44.9842769
CATEGORIES:Special Events
ATTACH;FMTTYPE=image/jpeg:https://www.natcam.com/wp-content/uploads/2023/11/tamron-demos-12.1-2_event-banner.jpg
END:VEVENT
END:VCALENDAR