BEGIN:VCALENDAR
VERSION:2.0
PRODID:-//National Camera Exchange - ECPv4.6.11.1//NONSGML v1.0//EN
CALSCALE:GREGORIAN
METHOD:PUBLISH
X-WR-CALNAME:National Camera Exchange
X-ORIGINAL-URL:https://www.natcam.com
X-WR-CALDESC:Events for National Camera Exchange
BEGIN:VEVENT
DTSTART;TZID=America/Chicago:20230506T100000
DTEND;TZID=America/Chicago:20230506T160000
DTSTAMP:20260419T231219
CREATED:20230417T193249Z
LAST-MODIFIED:20230426T223927Z
UID:421868-1683367200-1683388800@www.natcam.com
SUMMARY:Tamron // In-Store Demo • May 6\, 2023
DESCRIPTION:Tamron // In-Store Demo\nMay 6\, 2023\n  \nDiscover the latest Tamron lenses and take your photography skills to the next level with an in-store demo on Saturday\, May 6th from 10am-4pm. Join Tamron’s Mike Pazandak as he showcases the features and benefits of Tamron lenses. From wide-angle to telephoto\, discover the perfect lens for your needs and learn tips and tricks to capture stunning images. Plus\, take advantage of the great savings for Mother’s Day on select Tamron lenses and give the gift of stunning photography to your loved ones. \nDon’t miss out on this exciting opportunity to meet with Mike in person\, try out some new lenses and get your questions answered by the expert. We look forward to seeing you there! \n•••••••••••••••••••••• \nLooking to upgrade your gear? Bring in your cameras\, lenses and sports optics to get a quote from our knowledgeable sales staff on the value of trading it in towards a new purchase. \nIf you have any questions about this or any other event\, please email us at classes@natcam.com. We will do our best to get back to you within 1-2 business days. \n
URL:https://www.natcam.com/event/tamron-store-demo-4/
LOCATION:9300 Olson Memorial Highway\, Golden Valley\, MN\, 55427\, United States
GEO:44.9842769;-93.3982752
X-APPLE-STRUCTURED-LOCATION;VALUE=URI;X-ADDRESS=9300 Olson Memorial Highway Golden Valley MN 55427 United States;X-APPLE-RADIUS=500;X-TITLE=9300 Olson Memorial Highway:geo:-93.3982752,44.9842769
CATEGORIES:Special Events
END:VEVENT
END:VCALENDAR