BEGIN:VCALENDAR
VERSION:2.0
PRODID:-//National Camera Exchange - ECPv4.6.11.1//NONSGML v1.0//EN
CALSCALE:GREGORIAN
METHOD:PUBLISH
X-WR-CALNAME:National Camera Exchange
X-ORIGINAL-URL:https://www.natcam.com
X-WR-CALDESC:Events for National Camera Exchange
BEGIN:VEVENT
DTSTART;TZID=America/Chicago:20180630T180000
DTEND;TZID=America/Chicago:20180630T213000
DTSTAMP:20260422T162615
CREATED:20180605T184443Z
LAST-MODIFIED:20180617T164756Z
UID:144186-1530381600-1530394200@www.natcam.com
SUMMARY:Tamron Tours Presents: Cityscape Seminar and Downtown Photowalk
DESCRIPTION:Tamron Tours Presents\nCityscape Seminar and Downtown Photowalk\nJoin ​Tamron ​USA ​and ​National ​Camera ​for ​a ​2-part ​workshop ​that ​will ​start ​with ​a ​Friday ​night ​lecture ​then ​a ​Saturday ​night ​walk ​through ​the ​streets ​of ​Downtown ​Minneapolis ​during ​the ​golden ​hours ​of ​sunset. ​ ​Photographers ​Erica ​Robinson ​and ​Damion ​Fearron ​along ​with ​staff ​from ​National ​Camera ​will ​guide ​and ​instruct ​you ​along ​the ​way\, ​giving ​helpful ​hints ​on ​how ​to ​capture ​this ​beautiful ​city ​as ​the ​light ​begins ​to ​fade. ​ ​Bring ​your ​cameras ​and ​comfortable ​walking ​shoes ​and ​join ​us ​for ​a ​summers ​night ​in ​the ​city.\n\n\n\nSEMINAR: Friday\, 6:30pm-8pm\, Roseville Classroom – Join us for a short presentation to help prepare you to take great city photos during the event.\nDEMO: Saturday\, 10am-4pm – Tamron will be showing and demoing lenses at Roseville\nWORKSHOP: Saturday\, 6pm-9:30pm – Meet on St. Anthony Main side of the Stone Arch Bridge with good walking shoes at 6pm\n\n\n\nTO REGISTER:\nhttps://www.regonline.com/registration/Checkin.aspx?EventID=2497700\n\nEvent Fee: $49.99\nIncludes Welcome Bag\, Tamron Lens Loaners & Bonus Rebates on Select Tamron Lenses\n\n\n
URL:https://www.natcam.com/event/tamron-tours-presents-trip-mn-wildlife-connetion-2018-06-30/
LOCATION:1 6th Ave SE\, Minneapolis\, MN 55414\, Minneapolis\, MN\, 55414\, United States
GEO:44.981404;-93.2498877
X-APPLE-STRUCTURED-LOCATION;VALUE=URI;X-ADDRESS=1 6th Ave SE Minneapolis MN 55414 Minneapolis MN 55414 United States;X-APPLE-RADIUS=500;X-TITLE=1 6th Ave SE\, Minneapolis\, MN 55414:geo:-93.2498877,44.981404
CATEGORIES:Special Events,Specialty Classes
ATTACH;FMTTYPE=image/png:https://www.natcam.com/wp-content/uploads/2018/06/Tamron_seminarphotowalk_web.png
END:VEVENT
END:VCALENDAR