BEGIN:VCALENDAR
VERSION:2.0
PRODID:-//National Camera Exchange - ECPv4.6.11.1//NONSGML v1.0//EN
CALSCALE:GREGORIAN
METHOD:PUBLISH
X-WR-CALNAME:National Camera Exchange
X-ORIGINAL-URL:https://www.natcam.com
X-WR-CALDESC:Events for National Camera Exchange
BEGIN:VEVENT
DTSTART;TZID=America/Chicago:20190809T183000
DTEND;TZID=America/Chicago:20190809T200000
DTSTAMP:20260420T025519
CREATED:20190731T164903Z
LAST-MODIFIED:20190731T164903Z
UID:217610-1565375400-1565380800@www.natcam.com
SUMMARY:Tamron: Travel and Storytelling
DESCRIPTION:Tamron: Travel and Storytelling\nTravel and Storytelling go hand in hand.  Because no matter the place you go\, mode of transportation\, or style of travel\, you always return home with a story.  I believe\, the allure of travel for most photographers is rooted in this newness of a place\, calling us to capture that adventure through our cameras.  During this travel and storytelling seminar\, we will discuss how to build a photograph with our composition while being sure we know our cameras\, we well as understanding  our locations\, and how to show stories within our travel photographs.  Time to think outside of the box and get creative! \nTamron Tech Rep Erica Robinson has always had a strong passion for both photography and travel\, but once merging the two together is where she found her true calling. After studying photography in college\, her first adventure was working as a photographer for a cruise line. Trying to pursue a different genre she then worked with talented Boston wedding photographers while learning the technical side working for a local camera store. Photography is an incredible tool that allows us to stop a moment and relive it every time we look at that image. She genuinely enjoys teaching others how to capture that moment in the way it makes them feel\, to relive it over and over again. \n  \n
URL:https://www.natcam.com/event/tamron-travel-storytelling/
LOCATION:2401 Fairview Avenue N #10\, Roseville\, MN\, 55113\, United States
GEO:45.0136491;-93.1791898
X-APPLE-STRUCTURED-LOCATION;VALUE=URI;X-ADDRESS=2401 Fairview Avenue N #10 Roseville MN 55113 United States;X-APPLE-RADIUS=500;X-TITLE=2401 Fairview Avenue N #10:geo:-93.1791898,45.0136491
CATEGORIES:Special Events,Specialty Classes
ATTACH;FMTTYPE=image/jpeg:https://www.natcam.com/wp-content/uploads/2019/07/tamron-storytelling-banner.jpg
END:VEVENT
END:VCALENDAR