BEGIN:VCALENDAR
VERSION:2.0
PRODID:-//National Camera Exchange - ECPv4.6.11.1//NONSGML v1.0//EN
CALSCALE:GREGORIAN
METHOD:PUBLISH
X-WR-CALNAME:National Camera Exchange
X-ORIGINAL-URL:https://www.natcam.com
X-WR-CALDESC:Events for National Camera Exchange
BEGIN:VEVENT
DTSTART;TZID=America/Chicago:20180608T130000
DTEND;TZID=America/Chicago:20180608T140000
DTSTAMP:20260419T220852
CREATED:20180531T210800Z
LAST-MODIFIED:20180531T210800Z
UID:143107-1528462800-1528466400@www.natcam.com
SUMMARY:Travel Ready! @ Golden Valley
DESCRIPTION:Travel Ready!\nSeminar\nGolden Valley on Friday at 1pm & Saturday\, June 8th at 1pm at Roseville \nJoin local travel & fine art photographer Brad Daniels as he touches on his explorations through Italy\, New York and the Lake Superior region along with his wife\, Michelle. He will go over how to prep & what to buy for\, whether you’re planning a trip locally or internationally.  He will also discuss a range of creative photography methods and necessary camera accessories you will need on your travels. \n\nNo camera or computer required at this all-levels seminar. \n
URL:https://www.natcam.com/event/travel-ready-golden-valley/
LOCATION:9300 Olson Memorial Highway\, Golden Valley\, MN\, 55427\, United States
GEO:44.9842769;-93.3982752
X-APPLE-STRUCTURED-LOCATION;VALUE=URI;X-ADDRESS=9300 Olson Memorial Highway Golden Valley MN 55427 United States;X-APPLE-RADIUS=500;X-TITLE=9300 Olson Memorial Highway:geo:-93.3982752,44.9842769
CATEGORIES:Special Events,Specialty Classes
ATTACH;FMTTYPE=image/png:https://www.natcam.com/wp-content/uploads/2018/05/Travel-Ready-webheader.png
END:VEVENT
END:VCALENDAR