BEGIN:VCALENDAR
VERSION:2.0
PRODID:-//National Camera Exchange - ECPv4.6.11.1//NONSGML v1.0//EN
CALSCALE:GREGORIAN
METHOD:PUBLISH
X-WR-CALNAME:National Camera Exchange
X-ORIGINAL-URL:https://www.natcam.com
X-WR-CALDESC:Events for National Camera Exchange
BEGIN:VEVENT
DTSTART;TZID=America/Chicago:20170909T100000
DTEND;TZID=America/Chicago:20170909T130000
DTSTAMP:20260420T062850
CREATED:20170805T021804Z
LAST-MODIFIED:20170908T155629Z
UID:85930-1504951200-1504962000@www.natcam.com
SUMMARY:Urban Street Photography Walk w/ Olympus
DESCRIPTION:Due to a emergency\, Olympus Visionary Frank Smith will be presenting on Urban Street Photography Friday and Saturday. \nSee Frank’s amazing photos: http://www.franksmithphotos.com \n  \nJoin Jamie as he discusses his approach to shooting an urban environment from the perspective of a nature & wildlife photographer. While Jamie may spend most of his time shooting along the shores of The Great Lakes\, or chasing down wildlife in the marshes of his home in Michigan\, he has found forays into urban centers a very rewarding break from what Mother Nature presents him with normally. In Friday’s seminar he will show you the things he looks for to turn the overwhelming task of “shooting the big city” into manageable nuggets of photographic exploration. Take your inspiration for a stroll on Saturday\, where he’ll be leading an exciting photo walk on the classic Stone Arch Bridge\, starting on the west side near the Guthrie. \nAs a bonus for signing up with both events\, attendees will receive a free $25 NCE gift card! \n
URL:https://www.natcam.com/event/urban-street-photography-walk-w-olympus/
LOCATION:100 W River Pkwy\, Minneapolis\, MN\, 55401\, United States
GEO:44.9804877;-93.2595263
X-APPLE-STRUCTURED-LOCATION;VALUE=URI;X-ADDRESS=100 W River Pkwy Minneapolis MN 55401 United States;X-APPLE-RADIUS=500;X-TITLE=100 W River Pkwy:geo:-93.2595263,44.9804877
CATEGORIES:Special Events
ATTACH;FMTTYPE=image/jpeg:https://www.natcam.com/wp-content/uploads/2016/01/StreetPhotography-Web_Header.jpg
END:VEVENT
END:VCALENDAR