BEGIN:VCALENDAR
VERSION:2.0
PRODID:-//National Camera Exchange - ECPv4.6.11.1//NONSGML v1.0//EN
CALSCALE:GREGORIAN
METHOD:PUBLISH
X-WR-CALNAME:National Camera Exchange
X-ORIGINAL-URL:https://www.natcam.com
X-WR-CALDESC:Events for National Camera Exchange
BEGIN:VEVENT
DTSTART;TZID=America/Chicago:20180512T103000
DTEND;TZID=America/Chicago:20180512T120000
DTSTAMP:20260420T013422
CREATED:20180412T150556Z
LAST-MODIFIED:20180511T165643Z
UID:134349-1526121000-1526126400@www.natcam.com
SUMMARY:Vivid Landscapes withTamron @ Roseville
DESCRIPTION:Vivid Landscapes with Tamron\nSeminar\nWhether you are standing on the rim of the Grand Canyon or just trying to capture colorful flowers in your garden\, this seminar will provide you with the helpful hints on how to best capture your subjects.  We will help you see and manipulate light to create the right exposures\,  powerful compositions\, and understand what lens to use and why.  Stop wondering  “Why don’t my images my images come out the way I want?”  This seminar will show you how to make the most of your landscape photography. \nTamron’s  Mike Pazandak has had a passion for photography for over 25 years.  He has experience in architectural\, weking\, street\, documentary\,sports\, and landscape photography. \n
URL:https://www.natcam.com/event/vivid-landscapes-withtamron-roseville/
LOCATION:2401 Fairview Avenue N #10\, Roseville\, MN\, 55113\, United States
GEO:45.0136491;-93.1791898
X-APPLE-STRUCTURED-LOCATION;VALUE=URI;X-ADDRESS=2401 Fairview Avenue N #10 Roseville MN 55113 United States;X-APPLE-RADIUS=500;X-TITLE=2401 Fairview Avenue N #10:geo:-93.1791898,45.0136491
CATEGORIES:Special Events,Specialty Classes
ATTACH;FMTTYPE=image/png:https://www.natcam.com/wp-content/uploads/2018/04/Landscape_webheader.png
END:VEVENT
END:VCALENDAR