BEGIN:VCALENDAR
VERSION:2.0
PRODID:-//National Camera Exchange - ECPv4.6.11.1//NONSGML v1.0//EN
CALSCALE:GREGORIAN
METHOD:PUBLISH
X-WR-CALNAME:National Camera Exchange
X-ORIGINAL-URL:https://www.natcam.com
X-WR-CALDESC:Events for National Camera Exchange
BEGIN:VEVENT
DTSTART;TZID=America/Chicago:20200310T180000
DTEND;TZID=America/Chicago:20200310T200000
DTSTAMP:20260419T132239
CREATED:20170201T202852Z
LAST-MODIFIED:20200207T224749Z
UID:250643-1583863200-1583870400@www.natcam.com
SUMMARY:Stunning Blooms Seminar @ Roseville
DESCRIPTION:Stunning Blooms: A Private Como Conservatory Event\nSEMINAR \nJoin Tamron Technical Representative Jillian Bell at our Roseville location on March 10th for a seminar on macro techniques such as composition and the essential gear to get the best shot. The following evening\, the class will meet up at beautiful Como Conservatory for an exclusive\, all access shooting opportunity to capture and compose inspiring macro shots  This is a private\, hands-on workshop closed to the public and limited to 25 participants.\n\nIt is recommended that participants bring tripods\,extra batteries and memory cards. Nissan flashes\, Tamron lenses and Sirui tripods will be on-hand to demo.\n\nPurchasing a Seminar ticket also includes admission to the Workshop!\n\n\n
URL:https://www.natcam.com/event/winter-blossoms-private-como-conservatory-event-seminar-2-2-2/
LOCATION:2401 Fairview Avenue N #10\, Roseville\, MN\, 55113\, United States
GEO:45.0136491;-93.1791898
X-APPLE-STRUCTURED-LOCATION;VALUE=URI;X-ADDRESS=2401 Fairview Avenue N #10 Roseville MN 55113 United States;X-APPLE-RADIUS=500;X-TITLE=2401 Fairview Avenue N #10:geo:-93.1791898,45.0136491
CATEGORIES:Special Events,Specialty Classes
ATTACH;FMTTYPE=image/jpeg:https://www.natcam.com/wp-content/uploads/2017/02/stunning-blooms-banner-02.jpg
END:VEVENT
END:VCALENDAR