BEGIN:VCALENDAR
VERSION:2.0
PRODID:-//National Camera Exchange - ECPv4.6.11.1//NONSGML v1.0//EN
CALSCALE:GREGORIAN
METHOD:PUBLISH
X-WR-CALNAME:National Camera Exchange
X-ORIGINAL-URL:https://www.natcam.com
X-WR-CALDESC:Events for National Camera Exchange
BEGIN:VEVENT
DTSTART;TZID=America/Chicago:20230708T100000
DTEND;TZID=America/Chicago:20230708T140000
DTSTAMP:20260419T123807
CREATED:20230614T213830Z
LAST-MODIFIED:20230706T035822Z
UID:433489-1688810400-1688824800@www.natcam.com
SUMMARY:Zootography Workshop with Sony // Part Two: In-Person at Como Park Zoo • July 8\, 2023
DESCRIPTION:Three-Part Zootography Workshop with Sony\nJuly 6th\, 8th & 11th\n  \nLooking to add some ferocity to your zoo images? Join National Camera and Sony Imaging Specialist Ashley Ondricek  \nfor a special summer Zoo photography experience at Como Park Zoo. \n  \n\nREGISTRATION FOR THIS EVENT IS NOW CLOSED \nClick here to view upcoming classes and events \n\nJoin us for a unique and exciting three-part Zootography workshop hosted in collaboration with Sony Imaging Specialist Ashley Ondricek. You’ll leave the workshop with the knowledge and skills to continue honing your craft and an opportunity for you to start building a portfolio of impressive zoo animal images. \nBest of all\, a portion of the proceeds from this workshop will go directly to Como Park Zoo and Conservatory helping them continue to be a global leader in conservation\, animal care and horticulture with barrier-free access for all. Not only will you be improving your photography skills\, you’ll also be making a difference in your community. \n  \nPART TWO // In-Person at the Como Zoo • July 8th \nIn the second part of the workshop\, we’ll meet in person at Como Park Zoo where you’ll have the opportunity to put what you learned from the online seminar into practice. Ashley and photography experts from National Camera will be on hand to provide personalized guidance as you capture images of a variety of animals at the zoo. \nSony will be providing some loaner gear during the hands-on portion of the workshop for you to try out! Loaner gear is limited and is available on a first come first serve basis. All camera brands are welcome and you are encouraged to bring your personal gear\, you do not have to own or use a Sony camera to participate in this workshop. \nWhether you’re a beginner or avid enthusiast looking to improve your skills\, this workshop is the perfect opportunity to have fun\, learn something new\, and support a local non-profit organization.  \n\n• • • • • • • • • • • • • • • • •\n  \nWORKSHOP SCHEDULE \nPart One: Online Seminar \n\nThursday\, July 6th // 6-7:15pm\n\nPart Two: In-Person Event at the Como Zoo \n\nSaturday\, July 8th // 10am-2pm\n\nComo Park Zoo and Conservatory\n\n\n\nPart Three: Online Image Review \n\nThursday\, July 11th // 6-7:30pm\n\n  \nThe registration deadline is Wednesday\, July 5th at 10pm CST. Tickets are limited\, sign up today and take your zoo photography to the next level! \nRegister Here > Zootography Workshop with Sony \n  \n
URL:https://www.natcam.com/event/zootography-workshop-sony-part-two-person-como-park-zoo-%e2%80%a2-july-8-2023/
LOCATION:1225 Estabrook Dr\, St Paul\, MN\, 55103\, United States
GEO:44.9815977;-93.1511415
X-APPLE-STRUCTURED-LOCATION;VALUE=URI;X-ADDRESS=1225 Estabrook Dr St Paul MN 55103 United States;X-APPLE-RADIUS=500;X-TITLE=1225 Estabrook Dr:geo:-93.1511415,44.9815977
CATEGORIES:Special Events
ATTACH;FMTTYPE=image/jpeg:https://www.natcam.com/wp-content/uploads/2023/06/07.06-zootography-event-banner-2.jpg
END:VEVENT
END:VCALENDAR